BEGIN:VCALENDAR
VERSION:2.0
PRODID:icalendar-ruby
CALSCALE:GREGORIAN
METHOD:PUBLISH
BEGIN:VEVENT
DTSTAMP:20260419T161536Z
UID:5-395432@amazinggrace.tithelysetup2.com
DTSTART:20260712T170000Z
DTEND:20260712T180000Z
CLASS:PUBLIC
CREATED:20260414T073135
DESCRIPTION:Sunday Worship
LAST-MODIFIED:20260414T073135
LOCATION:
SUMMARY:Sunday Worship
URL;VALUE=URI:https://amazinggrace.tithelysetup2.com/events/sunday-worship/
 2026-07-12
END:VEVENT
END:VCALENDAR
